BEGIN:VCALENDAR
VERSION:2.0
PRODID:-//NABIP-FW Chapter - ECPv6.15.1//NONSGML v1.0//EN
CALSCALE:GREGORIAN
METHOD:PUBLISH
X-WR-CALNAME:NABIP-FW Chapter
X-ORIGINAL-URL:https://nabip-fw.org
X-WR-CALDESC:Events for NABIP-FW Chapter
REFRESH-INTERVAL;VALUE=DURATION:PT1H
X-Robots-Tag:noindex
X-PUBLISHED-TTL:PT1H
BEGIN:VTIMEZONE
TZID:UTC
BEGIN:STANDARD
TZOFFSETFROM:+0000
TZOFFSETTO:+0000
TZNAME:UTC
DTSTART:20250101T000000
END:STANDARD
END:VTIMEZONE
BEGIN:VEVENT
DTSTART;TZID=UTC:20250301T110000
DTEND;TZID=UTC:20250301T133000
DTSTAMP:20260421T231320
CREATED:20240702T153552Z
LAST-MODIFIED:20250220T132439Z
UID:10000027-1740826800-1740835800@nabip-fw.org
SUMMARY:Easter Basket Collection for Gill Children's Services
DESCRIPTION:Gill Children’s Services provides essential support to local children in need\, and we want to bring a little joy to them this Easter season. We invite you to participate by donating new\, pre-assembled Easter baskets filled with goodies such as small toys\, books\, stuffed animals\, and wrapped candy. \nAbout Gill Children’s Services:\nGill Children’s Services assists children and families in need\, ensuring they access essential resources and support. Please visit Gill Children’s Services to learn more about Gill Children’s Services. \nEvent Details:\n\nActivity: Collecting Easter Baskets\nPurpose: Supporting children and families through Gill Children’s Services\n\nHow You Can Help:\n📆 Collection Deadline: Thursday\, March 20th – Sales Symposium \n📍 Drop-off Location: Lone Star Park – 1000 Lone Star Pkwy\, Grand Prairie\, TX 75050 \nLet’s come together to brighten a child’s Easter! We appreciate your generosity and support in making this project a success.
URL:https://nabip-fw.org/event/easter-basket-collection-for-gill-childrens-services/
LOCATION:Lone Star Park\, 1000 Lone Star Pkwy\, Grand Prairie\, TX\, 75050\, United States
CATEGORIES:Charity Event,Monthly Meeting
ATTACH;FMTTYPE=image/png:https://nabip-fw.org/wp-content/uploads/2024/07/Square-Website-Graphics-40.png
END:VEVENT
END:VCALENDAR