BEGIN:VCALENDAR
VERSION:2.0
PRODID:-//NABIP-FW Chapter - ECPv6.15.1//NONSGML v1.0//EN
CALSCALE:GREGORIAN
METHOD:PUBLISH
X-ORIGINAL-URL:https://nabip-fw.org
X-WR-CALDESC:Events for NABIP-FW Chapter
REFRESH-INTERVAL;VALUE=DURATION:PT1H
X-Robots-Tag:noindex
X-PUBLISHED-TTL:PT1H
BEGIN:VTIMEZONE
TZID:UTC
BEGIN:STANDARD
TZOFFSETFROM:+0000
TZOFFSETTO:+0000
TZNAME:UTC
DTSTART:20240101T000000
END:STANDARD
END:VTIMEZONE
BEGIN:VEVENT
DTSTART;TZID=UTC:20260312T083000
DTEND;TZID=UTC:20260312T083000
DTSTAMP:20260419T184528
CREATED:20250721T143500Z
LAST-MODIFIED:20260306T142010Z
UID:10000038-1773304200-1773304200@nabip-fw.org
SUMMARY:Sales Symposium
DESCRIPTION:Join us for the 2026 NABIP Fort Worth Sales Symposium Day as we welcome agents from across the metroplex for an information-packed exhibition day focused on Group\, Senior\, and Individual Sales. \nThis full-day event offers powerful networking\, valuable exhibitor interaction\, and 6 hours of Continuing Education designed to keep you informed\, competitive\, and ahead of industry changes. \n  \nEvent Agenda: \n\n8:00 AM – Exhibitor Set Up\n8:30 – 9:00 AM – Registration & Time with Exhibitors\n9:00 – 9:20 AM – Fort Worth Chapter Meeting – Presenter: Stacy Cochran\, NABIP–Fort Worth President\n9:30 – 10:30 AM (1 Hour CE)   Clifton Stubbs – Medicare: Beyond the Policy (Course ID: TBD)\n10:35 – 10:45 AM – Break (10-minute break with 2-minute warning)\n10:45 – 11:45 AM (1 Hour CE)   Audra Sullivan – Ethics vs. Morals – You Decide (Course ID: 134990)\n11:45 AM – Lunch Break\n12:00 – 12:30 PM – Lunch & NABIP Fort Worth Membership Meeting\nExhibitor Networking | Sponsor Remarks | Pledge & Prayer\n12:30 – 1:30 PM (1 Hour CE)   Misty Baker – Federal Legislative & Regulatory Update (Course ID: 146615)\n1:30 – 1:45 PM – Break\n1:45 – 2:45 PM (1 Hour CE)   David J. Slepak – Angle Health– The Artificial Intelligence Machine (Course ID:  141835)\n2:45 – 3:00 PM – Break\n3:00 – 4:00 PM (1 Hour CE)    Stacy Cochran – Is There a Pill for That? PBM Legislation 2025–2026 (Course ID: TBD)\n\n  \nRegistration Fees: \nYour registration includes: \n\n☕ Morning Coffee\n🥗 Lunch\n🍪 Afternoon Refreshments\n📚 6 Hours of Continuing Education\n\nNABIP -FW members: \n\n$35 for Online pre-registration\n$50 at the door\n\nNon-members: \n\n$55 for Online pre-registration\n$75 at the door\n\nEntrance fees will include morning coffee\, lunch\, afternoon refreshments\, and 6 hours of continuing education. \n  \nA Huge Thank You to Our Generous Sponsors – Your Support Makes Everything Possible! \nA specific time will be set aside for producers to meet with your company and learn about your products and/or carriers. \n  \nExhibitor Opportunities:    \nTriple Crown Sponsor – $2500 (1 available) \n\n15 minutes of presentation time for our members.\nReserved Table for 6\nExhibitor booth with 3 Chairs\nSpecial recognition from the podium in addition to the meeting symposium invitation\, meeting materials\, and on the NABIP FW website.\n\nDerby Sponsor – $2000 \n\n10 minutes of presentation time to our members\nExhibitor booth with 3 Chairs\nFour event tickets for exhibitor representatives (must pre-register).\nCredit for Lunch\nSpecial recognition from the podium in addition to the meeting symposium invitation\, meeting materials\, and on the NABIPFW website.\n\nSuperfecta Sponsor – $1750 \n\nCredit for providing morning coffee and breakfast\nExhibitor booth with 3 Chairs\n5 minutes of presentation time to our members.\nThree event tickets for exhibitor representatives (must pre-register).\nSpecial recognition from the podium in addition to the meeting symposium invitation\, meeting materials\, and on the NABIP FW website.\n\nDaily Double Sponsor – $1500  \n\nExhibitor booth with 2 chairs.\nThree event tickets for exhibitor representatives (must pre-register).\n5 minutes of presentation time to our members.\nRecognition on meeting symposium invitation\, meeting materials\, and on the NABIP FW website.\n \n\n Exacta Sponsor – $1000  \n\nExhibitor booth with 2 chairs.\nTwo event tickets for exhibitor representatives (must pre-register).\n5 minutes of presentation time to our members.\nRecognition on meeting symposium invitation\, meeting materials\, and on the NABIP FW website.\n          \n\nQuinella Sponsor – $750  \n\nExhibitor Booth with 2 chairs\nTwo event tickets for exhibitor representatives (must pre-register).\nRecognition on meeting symposium invitation\, materials\, and on the NABIP FW website.\n\n\nWin\, Place or Show Sponsor – $425  \n\nExhibitor Booth with 1 chair\nOne event tickets for exhibitor representatives (must pre-register).\nRecognition on meeting symposium invitation\, materials\, and on the NABIP FW website.\n       \n\nJockey Sponsor – $250  \n\nOne event ticket and you will be able to gallop around and leave swag on the tables.\n\n  \nExhibitor Participant Registration Form  \nPlease complete the form below and return it to NABIP FW by Monday\, March 2\, 2026 \nExhibitor Requirements: \n\nPlease arrive by 8:00 am to set up the booth and/or pass out materials to attendee tables.\nEach Exhibitor must bring a gift of a $25 value or higher to be given away in the drawing at the end of the day.\nWe are requesting that each exhibitor help us get the word out about the Professional Development Day  so we will have a large turnout and make this a successful event for both our exhibitors and producers.\nProvide an electronic version of your logo\, preferably a JPG\, for advertisement materials to Stacy.Cochran@90degreebenefits.com\n\nExhibitor Opportunities Click Here: https://givebutter.com/W8EXP3
URL:https://nabip-fw.org/event/sales-symposium/
LOCATION:Lone Star Park\, 1000 Lone Star Pkwy\, Grand Prairie\, TX\, 75050\, United States
CATEGORIES:Sales Symposium
ATTACH;FMTTYPE=image/jpeg:https://nabip-fw.org/wp-content/uploads/2025/07/1z98RXwzY5nXWX1Q4qDbquoKuoUeKChRwBfOcvtT.jpg
END:VEVENT
BEGIN:VEVENT
DTSTART;TZID=UTC:20250320T070000
DTEND;TZID=UTC:20250320T190000
DTSTAMP:20260419T184528
CREATED:20240619T131822Z
LAST-MODIFIED:20250307T125537Z
UID:10000020-1742454000-1742497200@nabip-fw.org
SUMMARY:CE Symposium: A Full Day of Learning
DESCRIPTION:Please join us for the 2025 NABIP Fort Worth Sales Symposium as we welcome agents from around the metroplex for an information-packed exhibition day focused on the Senior Market\, Individual Sales\, and Group Health Insurance. Strategically scheduled in March\, this event will allow exhibitors to meet potential producers for all lines of business. \nClick here to secure your spot today! \nAttendee costs for the full-day symposium will be $75 for Online pre-registration\, $100 at the door for NABIP Fort Worth members\, $95 for Online pre-registration\, and $120 at the door for non-members. \nEntrance fees will include morning coffee\, lunch\, afternoon refreshments\, and 6-hours of continuing education. \nIf you are a general agent\, a specific time will be set aside for producers to meet with your company and learn about your products and/or carriers. \nSponsors Who Will Be There: \n                 .        \n  \nExhibitor Opportunities:    \nTriple Crown Sponsor – $2500 (1 available)   \n\n15 minutes of presentation time for our members.\nExhibitor booth.\nTwo event tickets for exhibitor representatives (must pre-register).\nSpecial recognition from the podium\, in addition to meeting symposium invitation\, meeting materials\, and the\nNABIP Fort Worth website.\n\nDerby Sponsor – $2000 \n\nCredit for providing lunch\nExhibitor booth\nTwo event tickets for exhibitor representatives (must pre-register).\nSpecial recognition from the podium in addition to meeting symposium invitations\, meeting materials\, and the\nwebsite.\n\nTrifecta Sponsor – $1500  \n\nCredit for providing morning coffee and breakfast\nExhibitor booth\nTwo event tickets for exhibitor representatives (must pre-register).\nSpecial recognition from the podium\, in addition to meeting symposium invitation\, meeting materials\, and the\nNABIP Fort Worth website.\n\nDaily Double Sponsor – $1000   \n\nExhibitor booth\nTwo event tickets for exhibitor representatives (must pre-register).\nRecognition on meeting symposium invitations\, meeting materials\, and the NABIP Fort Worth website.\n\nWin\, Place or Show Sponsor – $750   \n\nOne Exhibitor Booth\nTwo event tickets for exhibitor representatives (must pre-register).\nRecognition on meeting symposium invitations\, materials\, and on the NABIP Fort Worth website.\n\nJockey Sponsor – $250  \n\nGet to gallop around and leave swag at tables.\n\nExhibitor Requirements:   \n\nPlease arrive by 8:00 am to set up a booth and/or pass out materials to attendee tables.\nEach Exhibitor must bring a gift of a $25 value or higher to be given away in the drawing at the end of the day.\nWe are requesting that each exhibitor help us get the word out about the Sales Symposium Day so we will have a large turnout and make this a successful event for both our exhibitors and producers.\nProvide an electronic version of your logo\, preferably jpg\, for advertisement materials to tamara.mijares@frostinsurance.com\n\nDon’t forget to secure your spot if you haven’t already.
URL:https://nabip-fw.org/event/ce-symposium-a-full-day-of-learning/
LOCATION:Lone Star Park\, 1000 Lone Star Pkwy\, Grand Prairie\, TX\, 75050\, United States
CATEGORIES:Sales Symposium
ATTACH;FMTTYPE=image/jpeg:https://nabip-fw.org/wp-content/uploads/2024/06/101fdd2e-3fcb-4e70-a8bc-524302538217-screen_shot-NABIP-FW-Sales-Symp-Final-scaled.jpeg
END:VEVENT
BEGIN:VEVENT
DTSTART;TZID=UTC:20240321T090000
DTEND;TZID=UTC:20240321T160000
DTSTAMP:20260419T184528
CREATED:20231201T153504Z
LAST-MODIFIED:20240319T120809Z
UID:10000005-1711011600-1711036800@nabip-fw.org
SUMMARY:NABIP Fort Worth Legislative Symposium
DESCRIPTION:Please join us for the 2024 NABIP Sales Symposium as we welcome attendees from around the metroplex for an information-packed exhibition day focused on Federal and State Legislation with our current\, future\, and past Legislators. Strategically scheduled in March\, this event will allow exhibitors to meet potential clients before the Legislative Election Period. \nAttendee costs for the full-day symposium will be $75 for Online pre-registration\, $100 at the door for NABIP members\, $95 for Online pre-registration\, and $120 for non-members. Entrance fees will include morning coffee\, lunch\, 5 hours of continuing education\, and Happy Hour following. Specific time will be set aside so that attendees can meet with your company and learn about your products. \n  \nAgenda: \n8:45 – 9:15 AM: Registration begins\, and time with the Exhibitors before CE begins \n9:30 – 10:30 AM: Stacy Cochran “NSA – No Surprises Here!” CE Pending \nBreak (10 – 15 min) \n10:45 – 11:45 AM: Joe Barton “How to Meet with Federal Legislators” CE Pending \n \nBreak (10 – 15 min) \n12:00 – 12:30 PM: Lunch\, NABIP Fort Worth Membership Meeting\, and Exhibitor Networking \nLunch/Pledge & Prayer by Representative Ramon Romero \n \n12:30 – 1:30 PM: Shannon and Mike Meroney “TDI Regulatory Activity – 2024 LegislativeImplementation” Course #137886 \nBreak (1o – 15 mins) \n1:45 – 2:45 PM: Cliff Stubbs “CRM – Making Our Own Change” Course #32408 \nBreak (10 – 15 mins) \n3:00 – 4:00 PM: Legislative Panel/Updates and What’s up with 2024? CE Pending \nLet’s take a moment to thank our sponsors and exhibitors. Additionally\, we would like to announce any prizes they may have brought for attendees. \n  \nExhibitor Opportunities: \nTriple Crown Sponsor – $2000 (1 available) \n\n15-minutes of presentation time to our members.\nExhibitor booth.\nTwo event tickets for exhibitor representatives (must pre-register).\nSpecial recognition from the podium in addition to meeting symposium invitation\, meeting materials\, and on the NABIP Fort Worth website.\n\nDerby Sponsor – $1500 \n\nCredit for providing lunch\nExhibitor booth\nTwo event tickets for exhibitor representatives (must pre-register).\nSpecial recognition from the podium in addition to meeting symposium invitation\, meeting materials\, and on the NABIP Fort Worth website.\n\nTrifecta Sponsor – $1000 \n\nCredit for providing morning coffee and breakfast\nExhibitor booth\nTwo event tickets for exhibitor representatives (must pre-register).\nSpecial recognition from the podium in addition to meeting symposium invitation\, meeting materials\, and on the NABIP Fort Worth website.\n\nDaily Double Sponsor – $750 \n\nExhibitor booth\nTwo event tickets for exhibitor representatives (must pre-register).\nRecognition on meeting symposium invitation\, meeting materials\, and on the NABIP Fort Worth Website.\n\nWin\, Place or Show Sponsor – $500 \n\nExhibitor Booth\nTwo event tickets for exhibitor representatives (must pre-register).\nRecognition on meeting symposium invitation\, materials\, and on the NABIP FW website\n\nJockey Sponsor – $250 \n\nGet to gallop around and leave swag at tables.\n\n  \nThank you to our sponsor!
URL:https://nabip-fw.org/event/nabip-fort-worth-legislative-symposium/
LOCATION:Lone Star Park\, 1000 Lone Star Pkwy\, Grand Prairie\, TX\, 75050\, United States
CATEGORIES:Sales Symposium
ATTACH;FMTTYPE=image/jpeg:https://nabip-fw.org/wp-content/uploads/2023/12/horse-race-final-rush-competition-sport-hippodro-2023-11-27-05-30-33-utc-scaled.jpg
END:VEVENT
END:VCALENDAR